BEGIN:VCALENDAR
PRODID:-//AT Content Types//AT Event//EN
VERSION:1.0
BEGIN:VEVENT
DTSTART:20130206T110000Z
DTEND:20130212T143000Z
DCREATED:20121030T100018Z
UID:ATEvent-457e1c278bd3c53d85aca9f6fd078c91
SEQUENCE:0
LAST-MODIFIED:20130106T170548Z
SUMMARY:Заверка на зимскиот и упис на летен семестар
PRIORITY:3
TRANSP:0
END:VEVENT
END:VCALENDAR
