BEGIN:VCALENDAR
PRODID:-//AT Content Types//AT Event//EN
VERSION:2.0
METHOD:PUBLISH
BEGIN:VEVENT
DTSTAMP:20260421T173143Z
CREATED:20190211T095813Z
UID:ATEvent-2717079e50a87cf1248d7213363db23f
LAST-MODIFIED:20190211T100122Z
SUMMARY:Заверка на зимски и запишување на летен семестар во академската 2018/2019 година - втор циклус
DTSTART:20190214T113000Z
DTEND:20190220T133000Z
CLASS:PUBLIC
END:VEVENT
END:VCALENDAR
