BEGIN:VCALENDAR
PRODID:-//AT Content Types//AT Event//EN
VERSION:1.0
BEGIN:VEVENT
DTSTART:20190528T103000Z
DTEND:20190603T123000Z
DCREATED:20190520T133447Z
UID:ATEvent-3823413f13dbfa861b00ecceb83f11a4
SEQUENCE:0
LAST-MODIFIED:20190521T123559Z
SUMMARY:Заверка на летен семестар во учебната 2018/2019 - Прв циклус
PRIORITY:3
TRANSP:0
END:VEVENT
END:VCALENDAR
