BEGIN:VCALENDAR
PRODID:-//AT Content Types//AT Event//EN
VERSION:1.0
BEGIN:VEVENT
DTSTART:20190607T103000Z
DTEND:20190612T123000Z
DCREATED:20190521T123936Z
UID:ATEvent-7467ab02395ece9763279c5c109d4f16
SEQUENCE:0
LAST-MODIFIED:20190521T124000Z
SUMMARY:Заверка на летен семестар во учебната 2018/2019 - Втор циклус
PRIORITY:3
TRANSP:0
END:VEVENT
END:VCALENDAR
