BEGIN:VCALENDAR
PRODID:-//AT Content Types//AT Event//EN
VERSION:1.0
BEGIN:VEVENT
DTSTART:20180521T103000Z
DTEND:20180530T123000Z
DCREATED:20180430T120825Z
UID:ATEvent-a7734bec3afc66fd4087c306a10e08b1
SEQUENCE:0
LAST-MODIFIED:20180430T123812Z
SUMMARY:Заверка на летен семестар - прв циклус студии
PRIORITY:3
TRANSP:0
END:VEVENT
END:VCALENDAR
