BEGIN:VCALENDAR
PRODID:-//AT Content Types//AT Event//EN
VERSION:1.0
BEGIN:VEVENT
DTSTART:20151013T103000Z
DTEND:20151015T123000Z
DCREATED:20150930T140538Z
UID:ATEvent-288a8141d5172f05901f9c17ff35f4e0
SEQUENCE:0
LAST-MODIFIED:20150930T140622Z
SUMMARY:Запишување зимски семестар 2015/2016 - втор циклус - магистерски студии (За студенти запишани од 2014 година)
PRIORITY:3
TRANSP:0
END:VEVENT
END:VCALENDAR
