BEGIN:VCALENDAR
PRODID:-//AT Content Types//AT Event//EN
VERSION:1.0
BEGIN:VEVENT
DTSTART:20170905T103000Z
DTEND:20170913T123000Z
DCREATED:20170821T073435Z
UID:ATEvent-d9a52b748fb2d2290931eeb546f974f3
SEQUENCE:0
LAST-MODIFIED:20170821T090536Z
SUMMARY:Запишување на зимски семестар за студентите од прв циклус студии
PRIORITY:3
TRANSP:0
END:VEVENT
END:VCALENDAR
