BEGIN:VCALENDAR
PRODID:-//AT Content Types//AT Event//EN
VERSION:2.0
METHOD:PUBLISH
BEGIN:VEVENT
DTSTAMP:20260421T172305Z
CREATED:20160825T132538Z
UID:ATEvent-0103df7d0d475857f3ecf5bde438885c
LAST-MODIFIED:20160825T132619Z
SUMMARY:Запишување на примените кандидати од првиот уписен рок - Уписи 2016
DTSTART:20160829T063000Z
DTEND:20160830T130000Z
CLASS:PUBLIC
END:VEVENT
END:VCALENDAR
