BEGIN:VCALENDAR
PRODID:-//AT Content Types//AT Event//EN
VERSION:1.0
BEGIN:VEVENT
DTSTART:20170910T220000Z
DTEND:20171009T215500Z
DCREATED:20170907T072838Z
UID:ATEvent-0e3c00c3e2a1e938a224188819d0dee9
SEQUENCE:0
LAST-MODIFIED:20170907T090010Z
SUMMARY:Уписи 2017 - II циклус студии
PRIORITY:3
TRANSP:0
END:VEVENT
END:VCALENDAR
