BEGIN:VCALENDAR
PRODID:-//AT Content Types//AT Event//EN
VERSION:2.0
METHOD:PUBLISH
BEGIN:VEVENT
DTSTAMP:20260421T171430Z
CREATED:20121029T110801Z
UID:ATEvent-1b21207e5e9c1d0fd64c5aea363c21d5
LAST-MODIFIED:20130831T091836Z
SUMMARY:Упис за зимски семестар
DTSTART:20130905T100000Z
DTEND:20130911T130000Z
CLASS:PUBLIC
END:VEVENT
END:VCALENDAR
