BEGIN:VCALENDAR
PRODID:-//AT Content Types//AT Event//EN
VERSION:2.0
METHOD:PUBLISH
BEGIN:VEVENT
DTSTAMP:20260421T172438Z
CREATED:20120831T124034Z
UID:ATEvent-aa435c63c472655fc41f25c9048ba3bc
LAST-MODIFIED:20120831T124045Z
SUMMARY:Термини за часовите од подготвителната настава по математика и физика
DTSTART:20121003T120000Z
DTEND:20121014T154500Z
CLASS:PUBLIC
END:VEVENT
END:VCALENDAR
