BEGIN:VCALENDAR
PRODID:-//AT Content Types//AT Event//EN
VERSION:1.0
BEGIN:VEVENT
DTSTART:20180131T230000Z
DTEND:20180206T225500Z
DCREATED:20180116T194318Z
UID:ATEvent-8c32e72c2e8adf0faaf366a4bf8c8eb1
SEQUENCE:0
LAST-MODIFIED:20180118T083751Z
SUMMARY:Заверка на зимски и запишување на летен семестар во академската 2017/2018 година
PRIORITY:3
TRANSP:0
END:VEVENT
END:VCALENDAR
