BEGIN:VCALENDAR
PRODID:-//AT Content Types//AT Event//EN
VERSION:1.0
BEGIN:VEVENT
DTSTART:20111117T100000Z
DTEND:20111117T113000Z
DCREATED:20111108T144915Z
UID:ATEvent-a7f2b04fe152b40dc30ad1fb6c3e0aa4
SEQUENCE:0
LAST-MODIFIED:20111108T144919Z
SUMMARY:Семинар на тема Universities and Students for Energy Efficiency - USE Eff' за студентите на ФЕИТ\, Градежен и Машински факултет
PRIORITY:3
TRANSP:0
END:VEVENT
END:VCALENDAR
