BEGIN:VCALENDAR
PRODID:-//AT Content Types//AT Event//EN
VERSION:1.0
BEGIN:VEVENT
DTSTART:20121018T090000Z
DTEND:20121018T110000Z
DCREATED:20121002T091554Z
UID:ATEvent-01f7dc8dcb1ebd7b3ade14cc160715c6
SEQUENCE:0
LAST-MODIFIED:20121002T091558Z
SUMMARY:Семинар на тема Measurement and Data Acquisition Systems
PRIORITY:3
TRANSP:0
END:VEVENT
END:VCALENDAR
