BEGIN:VCALENDAR
PRODID:-//AT Content Types//AT Event//EN
VERSION:1.0
BEGIN:VEVENT
DTSTART:20190617T073000Z
DTEND:20190618T133000Z
DCREATED:20190606T113442Z
UID:ATEvent-bc83cb27bd41b7d917385c4977658cfc
SEQUENCE:0
LAST-MODIFIED:20190610T073346Z
SUMMARY:Шаховски турнир по повод 60 ГОДИНИ ФЕИТ
PRIORITY:3
TRANSP:0
END:VEVENT
END:VCALENDAR
