BEGIN:VCALENDAR
PRODID:-//AT Content Types//AT Event//EN
VERSION:2.0
METHOD:PUBLISH
BEGIN:VEVENT
DTSTAMP:20260421T172128Z
CREATED:20181029T143806Z
UID:ATEvent-420485bcdbf2397939f217d878a0069e
LAST-MODIFIED:20181029T143814Z
SUMMARY:Прв свечен час на студентите на постдипломски студии од генерацијата 2018/2019
DTSTART:20181101T170000Z
DTEND:20181101T180000Z
CLASS:PUBLIC
END:VEVENT
END:VCALENDAR
