BEGIN:VCALENDAR
PRODID:-//AT Content Types//AT Event//EN
VERSION:1.0
BEGIN:VEVENT
DTSTART:20190513T103000Z
DTEND:20190523T123000Z
DCREATED:20190509T131258Z
UID:ATEvent-41fa3bbc2b12908bb5a63863227bf330
SEQUENCE:0
LAST-MODIFIED:20190510T133059Z
SUMMARY:Пријавување испити за јунска испитна сесија - прв циклус студии
PRIORITY:3
TRANSP:0
END:VEVENT
END:VCALENDAR
