BEGIN:VCALENDAR
PRODID:-//AT Content Types//AT Event//EN
VERSION:1.0
BEGIN:VEVENT
DTSTART:20190107T230000Z
DTEND:20190115T220000Z
DCREATED:20181227T143309Z
UID:ATEvent-240dce8b16c02ccfb6669fba33b31e43
SEQUENCE:0
LAST-MODIFIED:20181227T144748Z
SUMMARY:Пријавување испити за јануарска испитна сесија - прв циклус студии
PRIORITY:3
TRANSP:0
END:VEVENT
END:VCALENDAR
