BEGIN:VCALENDAR
PRODID:-//AT Content Types//AT Event//EN
VERSION:1.0
BEGIN:VEVENT
DTSTART:20180624T220000Z
DTEND:20180815T215500Z
DCREATED:20180619T080316Z
UID:ATEvent-05a43bcdd2ad2ea3ce6f33e8d2cdd502
SEQUENCE:0
LAST-MODIFIED:20180806T115738Z
SUMMARY:Пријавување испити - прв циклус студии
PRIORITY:3
TRANSP:0
END:VEVENT
END:VCALENDAR
