BEGIN:VCALENDAR
PRODID:-//AT Content Types//AT Event//EN
VERSION:1.0
BEGIN:VEVENT
DTSTART:20180821T220000Z
DTEND:20180907T215500Z
DCREATED:20180822T102229Z
UID:ATEvent-e0997bf0151e40af189aa929fc043aa7
SEQUENCE:0
LAST-MODIFIED:20180822T102758Z
SUMMARY:Пријавување испити од втор циклус на студии за августовска испитна сесија 2018 година
PRIORITY:3
TRANSP:0
END:VEVENT
END:VCALENDAR
