BEGIN:VCALENDAR
PRODID:-//AT Content Types//AT Event//EN
VERSION:1.0
BEGIN:VEVENT
DTSTART:20190625T220000Z
DTEND:20190814T215500Z
DCREATED:20190627T133123Z
UID:ATEvent-c24b7fac3e5c396298e1a9998bb624c2
SEQUENCE:0
LAST-MODIFIED:20190627T133305Z
SUMMARY:Пријавување испити – прв циклус студии
PRIORITY:3
TRANSP:0
END:VEVENT
END:VCALENDAR
