BEGIN:VCALENDAR
PRODID:-//AT Content Types//AT Event//EN
VERSION:1.0
BEGIN:VEVENT
DTSTART:20190531T220000Z
DTEND:20190613T215500Z
DCREATED:20190521T124303Z
UID:ATEvent-0dae23bd411a1f53825effd418ec0486
SEQUENCE:0
LAST-MODIFIED:20190521T124313Z
SUMMARY:Пријавување испити – НОВИ студиски програми – iKnow - Втор циклус
PRIORITY:3
TRANSP:0
END:VEVENT
END:VCALENDAR
