BEGIN:VCALENDAR
PRODID:-//AT Content Types//AT Event//EN
VERSION:2.0
METHOD:PUBLISH
BEGIN:VEVENT
DTSTAMP:20260421T171614Z
CREATED:20130125T072420Z
UID:ATEvent-1addc889f7a6b61660a29a69612df0bf
LAST-MODIFIED:20130125T072424Z
SUMMARY:Пријавуање на испити за јануарска испитна сесија - Втор циклус на студии
DTSTART:20130129T110000Z
DTEND:20130131T143000Z
CLASS:PUBLIC
END:VEVENT
END:VCALENDAR
