BEGIN:VCALENDAR
PRODID:-//AT Content Types//AT Event//EN
VERSION:2.0
METHOD:PUBLISH
BEGIN:VEVENT
DTSTAMP:20260421T183809Z
CREATED:20111021T111401Z
UID:ATEvent-ea1ec312cdddab30591939ddaf69e079
LAST-MODIFIED:20111021T111406Z
SUMMARY:Предавањето на темата „Philosophy of Control Systems and New Developments of  ICT“ на проф. д-р Васко Фурнаџиев од Нов Бугарски Универзитет - Софија
DTSTART:20111026T080000Z
DTEND:20111026T100000Z
CLASS:PUBLIC
END:VEVENT
END:VCALENDAR
