BEGIN:VCALENDAR
PRODID:-//AT Content Types//AT Event//EN
VERSION:2.0
METHOD:PUBLISH
BEGIN:VEVENT
DTSTAMP:20260421T172221Z
CREATED:20121114T141102Z
UID:ATEvent-adea4a54e98703ccbb271cd06352c5b1
LAST-MODIFIED:20121114T142200Z
SUMMARY:Предавање со наслов Secure Wireless Communications via Exhaustive Cooperative Jamming Against a Single Eavesdropper од проф. д-р Тони Стојановски
DTSTART:20121119T110000Z
DTEND:20121119T140000Z
CLASS:PUBLIC
END:VEVENT
END:VCALENDAR
