BEGIN:VCALENDAR
PRODID:-//AT Content Types//AT Event//EN
VERSION:1.0
BEGIN:VEVENT
DTSTART:20111004T100000Z
DTEND:20111004T120000Z
DCREATED:20110928T114828Z
UID:ATEvent-4ff00510d27de6b2d8e89991a8bb6aa3
SEQUENCE:0
LAST-MODIFIED:20110928T114833Z
SUMMARY:Предавање на темата "Trajectory Shaping Guidance Laws for Anti-ship Missiles"од д-р Хјо-Санг Шинг
PRIORITY:3
TRANSP:0
END:VEVENT
END:VCALENDAR
