BEGIN:VCALENDAR
PRODID:-//AT Content Types//AT Event//EN
VERSION:2.0
METHOD:PUBLISH
BEGIN:VEVENT
DTSTAMP:20260421T171949Z
CREATED:20120207T100830Z
UID:ATEvent-8a1f99d8c93c00166d100d30ce18b10e
LAST-MODIFIED:20120207T104048Z
SUMMARY:Предавање на тема „Network Q-Learning Controls Prevent Cyber Intrusion Risks\:  Computational Intelligence\, Communications and Control Synergy“ од проф. д-р Георги Димировски
DTSTART:20120210T110000Z
DTEND:20120210T130000Z
CLASS:PUBLIC
END:VEVENT
END:VCALENDAR
