BEGIN:VCALENDAR
PRODID:-//AT Content Types//AT Event//EN
VERSION:2.0
METHOD:PUBLISH
BEGIN:VEVENT
DTSTAMP:20260421T172617Z
CREATED:20120522T094500Z
UID:ATEvent-873529fdb0712dff4def19bc7224e331
LAST-MODIFIED:20120522T094535Z
SUMMARY:Предавање на тема „Аномална динамика во комплексни системи\: од експеримент до теорија и обратно“ на м-р Трифче Сандев
DTSTART:20120528T090000Z
DTEND:20120528T110000Z
CLASS:PUBLIC
END:VEVENT
END:VCALENDAR
