BEGIN:VCALENDAR
PRODID:-//AT Content Types//AT Event//EN
VERSION:2.0
METHOD:PUBLISH
BEGIN:VEVENT
DTSTAMP:20260421T172530Z
CREATED:20120914T075701Z
UID:ATEvent-dbf451acc66e1d4762fad6a0915b6ebb
LAST-MODIFIED:20120914T075706Z
SUMMARY:Предавање на проф. д-р Стево Божиновски со наслов „ЕТФ 1988\: Прво во светот управување на робот со ЕЕГ сигнали“
DTSTART:20120917T150000Z
DTEND:20120917T150000Z
CLASS:PUBLIC
END:VEVENT
END:VCALENDAR
