BEGIN:VCALENDAR
PRODID:-//AT Content Types//AT Event//EN
VERSION:1.0
BEGIN:VEVENT
DTSTART:20120920T100000Z
DTEND:20120920T120000Z
DCREATED:20120914T125850Z
UID:ATEvent-1b9af116f80dbab57355221bab786587
SEQUENCE:0
LAST-MODIFIED:20120914T125854Z
SUMMARY: Предавање на д-р сц. Нинослав Марина на темата „Кооперативни комуникации со доверливи пораки“
PRIORITY:3
TRANSP:0
END:VEVENT
END:VCALENDAR
