BEGIN:VCALENDAR
PRODID:-//AT Content Types//AT Event//EN
VERSION:1.0
BEGIN:VEVENT
DTSTART:20180829T083000Z
DTEND:20180829T140000Z
DCREATED:20180821T133929Z
UID:ATEvent-7979630bb1062ffef99d0e8a27d77881
SEQUENCE:0
LAST-MODIFIED:20180821T155023Z
SUMMARY:Повторно одржување на курсот за Cyber Security - Основно ниво
PRIORITY:3
TRANSP:0
END:VEVENT
END:VCALENDAR
