BEGIN:VCALENDAR
PRODID:-//AT Content Types//AT Event//EN
VERSION:1.0
BEGIN:VEVENT
DTSTART:20171123T070000Z
DTEND:20171125T190000Z
DCREATED:20170821T103041Z
UID:ATEvent-17d5bfad978b7e474b29d1c109c6701e
SEQUENCE:0
LAST-MODIFIED:20170821T105921Z
SUMMARY:Повик за учество на СКЕЕОР
PRIORITY:3
TRANSP:0
END:VEVENT
END:VCALENDAR
