BEGIN:VCALENDAR
PRODID:-//AT Content Types//AT Event//EN
VERSION:2.0
METHOD:PUBLISH
BEGIN:VEVENT
DTSTAMP:20260425T172102Z
CREATED:20190408T064505Z
UID:ATEvent-b11a60e57f6564928dad9d8005e892bc
LAST-MODIFIED:20190408T070933Z
SUMMARY:Покана за предавање Early Signals/Future Scenarios\: Visualizing possible futures од Leslie Shannon (Nokia Head of Ecosystem and Trend Scouting)
DTSTART:20190410T120000Z
DTEND:20190410T140000Z
CLASS:PUBLIC
END:VEVENT
END:VCALENDAR
