BEGIN:VCALENDAR
PRODID:-//AT Content Types//AT Event//EN
VERSION:1.0
BEGIN:VEVENT
DTSTART:20181006T060000Z
DTEND:20181007T140000Z
DCREATED:20180928T130936Z
UID:ATEvent-6f86cc46f9086ed175f4c10c1552348e
SEQUENCE:0
LAST-MODIFIED:20180928T131046Z
SUMMARY:Оваа година Македонија првпат дел од глобалниот настан „Бетапич“
PRIORITY:3
TRANSP:0
END:VEVENT
END:VCALENDAR
