BEGIN:VCALENDAR
PRODID:-//AT Content Types//AT Event//EN
VERSION:2.0
METHOD:PUBLISH
BEGIN:VEVENT
DTSTAMP:20260421T171508Z
CREATED:20180503T081922Z
UID:ATEvent-6bb971c125f3e55bea955c47d0eeef98
LAST-MODIFIED:20180503T082147Z
SUMMARY:Отворен ден на УКИМ
DTSTART:20180505T080000Z
DTEND:20180505T150000Z
CLASS:PUBLIC
END:VEVENT
END:VCALENDAR
