BEGIN:VCALENDAR
PRODID:-//AT Content Types//AT Event//EN
VERSION:2.0
METHOD:PUBLISH
BEGIN:VEVENT
DTSTAMP:20260421T172204Z
CREATED:20190413T075825Z
UID:ATEvent-50390249e422edd75d722bcb60dc5cf3
LAST-MODIFIED:20190413T113254Z
SUMMARY:Отворен ден на ФЕИТ
DTSTART:20190413T090000Z
DTEND:20190413T120000Z
CLASS:PUBLIC
END:VEVENT
END:VCALENDAR
