BEGIN:VCALENDAR
PRODID:-//AT Content Types//AT Event//EN
VERSION:2.0
METHOD:PUBLISH
BEGIN:VEVENT
DTSTAMP:20260421T172204Z
CREATED:20180412T092824Z
UID:ATEvent-871d9ed44234c7365fb06f1ad25673ce
LAST-MODIFIED:20180412T093708Z
SUMMARY:Отворен ден на ФЕИТ
DTSTART:20180414T090000Z
DTEND:20180414T110000Z
CLASS:PUBLIC
END:VEVENT
END:VCALENDAR
