BEGIN:VCALENDAR
PRODID:-//AT Content Types//AT Event//EN
VERSION:2.0
METHOD:PUBLISH
BEGIN:VEVENT
DTSTAMP:20260421T171431Z
CREATED:20180118T082947Z
UID:ATEvent-8fa5b78fdb0b0ca30d4af34e91eed6bb
LAST-MODIFIED:20180118T082957Z
SUMMARY:Неработен ден - Водици
DTSTART:20180118T230000Z
DTEND:20180119T225500Z
CLASS:PUBLIC
END:VEVENT
END:VCALENDAR
