BEGIN:VCALENDAR
PRODID:-//AT Content Types//AT Event//EN
VERSION:1.0
BEGIN:VEVENT
DTSTART:20180405T220000Z
DTEND:20180406T215500Z
DCREATED:20180405T060708Z
UID:ATEvent-88b5c911e8e28aa7d9cd07c1f487c370
SEQUENCE:0
LAST-MODIFIED:20180405T060714Z
SUMMARY:Неработен ден - Велики Петок
PRIORITY:3
TRANSP:0
END:VEVENT
END:VCALENDAR
