BEGIN:VCALENDAR
PRODID:-//AT Content Types//AT Event//EN
VERSION:1.0
BEGIN:VEVENT
DTSTART:20180408T220000Z
DTEND:20180409T215500Z
DCREATED:20180405T061053Z
UID:ATEvent-2e3d5e16c59b5e59a340164ce8050f0e
SEQUENCE:0
LAST-MODIFIED:20180405T061058Z
SUMMARY:Неработен ден - Велигден
PRIORITY:3
TRANSP:0
END:VEVENT
END:VCALENDAR
