BEGIN:VCALENDAR
PRODID:-//AT Content Types//AT Event//EN
VERSION:2.0
METHOD:PUBLISH
BEGIN:VEVENT
DTSTAMP:20260421T182626Z
CREATED:20121029T102429Z
UID:ATEvent-818af388293855805dfce5e78917b639
LAST-MODIFIED:20121029T102433Z
SUMMARY:Наставно научен совет
DTSTART:20121031T110000Z
DTEND:20121031T140000Z
CLASS:PUBLIC
END:VEVENT
END:VCALENDAR
