BEGIN:VCALENDAR
PRODID:-//AT Content Types//AT Event//EN
VERSION:1.0
BEGIN:VEVENT
DTSTART:20130925T100000Z
DTEND:20130925T130000Z
DCREATED:20130923T104746Z
UID:ATEvent-97cdb3c597a5962817df58eb1719fde6
SEQUENCE:0
LAST-MODIFIED:20130923T104800Z
SUMMARY:Наставно научен совет
PRIORITY:3
TRANSP:0
END:VEVENT
END:VCALENDAR
