BEGIN:VCALENDAR
PRODID:-//AT Content Types//AT Event//EN
VERSION:1.0
BEGIN:VEVENT
DTSTART:20130821T100000Z
DTEND:20130821T130000Z
DCREATED:20121029T110531Z
UID:ATEvent-aa738b0d8f4a242781eb4537c4f0a347
SEQUENCE:0
LAST-MODIFIED:20121029T110535Z
SUMMARY:Наставно научен совет
PRIORITY:3
TRANSP:0
END:VEVENT
END:VCALENDAR
