BEGIN:VCALENDAR
PRODID:-//AT Content Types//AT Event//EN
VERSION:2.0
METHOD:PUBLISH
BEGIN:VEVENT
DTSTAMP:20260421T171320Z
CREATED:20180318T000510Z
UID:ATEvent-aa3fcdee2253459e09bffa517d13240e
LAST-MODIFIED:20180318T000521Z
SUMMARY:Наставно - научен совет
DTSTART:20180321T110000Z
DTEND:20180321T130000Z
CLASS:PUBLIC
END:VEVENT
END:VCALENDAR
