BEGIN:VCALENDAR
PRODID:-//AT Content Types//AT Event//EN
VERSION:2.0
METHOD:PUBLISH
BEGIN:VEVENT
DTSTAMP:20260421T171335Z
CREATED:20180217T002702Z
UID:ATEvent-e6e26d0cffe156f5517df5e87fb7a8d2
LAST-MODIFIED:20180217T002817Z
SUMMARY:Наставно - научен совет
DTSTART:20180221T110000Z
DTEND:20180221T130000Z
CLASS:PUBLIC
END:VEVENT
END:VCALENDAR
