BEGIN:VCALENDAR
PRODID:-//AT Content Types//AT Event//EN
VERSION:2.0
METHOD:PUBLISH
BEGIN:VEVENT
DTSTAMP:20260421T171315Z
CREATED:20121029T110023Z
UID:ATEvent-5df066e022105f613f84c84e7066f298
LAST-MODIFIED:20130625T121838Z
SUMMARY:Наставно научен совет
DTSTART:20130703T100000Z
DTEND:20130703T130000Z
CLASS:PUBLIC
END:VEVENT
END:VCALENDAR
