BEGIN:VCALENDAR
PRODID:-//AT Content Types//AT Event//EN
VERSION:1.0
BEGIN:VEVENT
DTSTART:20130424T100000Z
DTEND:20130424T130000Z
DCREATED:20121029T104411Z
UID:ATEvent-8a2b71a18766dfe56a05369b622eb844
SEQUENCE:0
LAST-MODIFIED:20121029T104435Z
SUMMARY:Наставно научен совет
PRIORITY:3
TRANSP:0
END:VEVENT
END:VCALENDAR
