BEGIN:VCALENDAR
PRODID:-//AT Content Types//AT Event//EN
VERSION:2.0
METHOD:PUBLISH
BEGIN:VEVENT
DTSTAMP:20260421T172005Z
CREATED:20121029T103825Z
UID:ATEvent-22a7a91bdf0b8c592718a6c67550e8f2
LAST-MODIFIED:20131126T112347Z
SUMMARY:Наставно научен совет
DTSTART:20131126T123000Z
DTEND:20131126T140000Z
CLASS:PUBLIC
END:VEVENT
END:VCALENDAR
