BEGIN:VCALENDAR
PRODID:-//AT Content Types//AT Event//EN
VERSION:2.0
METHOD:PUBLISH
BEGIN:VEVENT
DTSTAMP:20260421T171321Z
CREATED:20121029T102733Z
UID:ATEvent-754f362de6dcd1560ea372d72c0ae0c1
LAST-MODIFIED:20121029T102737Z
SUMMARY:Наставно научен совет
DTSTART:20121128T110000Z
DTEND:20121128T140000Z
CLASS:PUBLIC
END:VEVENT
END:VCALENDAR
