BEGIN:VCALENDAR
PRODID:-//AT Content Types//AT Event//EN
VERSION:2.0
METHOD:PUBLISH
BEGIN:VEVENT
DTSTAMP:20260421T171201Z
CREATED:20180418T070656Z
UID:ATEvent-6740e7b63c6c4c6c8dc4531c642dfc14
LAST-MODIFIED:20180418T070849Z
SUMMARY:Наставно - научен совет
DTSTART:20180418T080000Z
DTEND:20180418T100000Z
CLASS:PUBLIC
END:VEVENT
END:VCALENDAR
